Workbook

Sheet inventaire
A1: nom du jeux | B1: lieu de stockage | C1: nombre de copie | D1: AGE | E1: nbre joueur min | F1: nbre joueur max | G1: durée partie | H1: bon état | I1: état moyen | J1: mauvais état | K1: valeur | L1: FACILE | M1: MOYEN | N1: expert | O1: GENRE | P1: theme
A3: 5211 | B3: V2-2 | C3: 1 | D3: 8 ANS | E3: 2 | F3: 5 | G3: 20 MIN | H3: X | K3: 20 | L3: X | O3: CARTE STRATEGIE BLUFF OBSERVATION MAJORITE | P3: ABSTRAIT
A4: 10 ' TO KILL | B4: D1 | C4: 1 | D4: 14 ANS | E4: 2 | F4: 4 | G4: 10 MIN | H4: X | K4: 30 | M4: X | O4: STRATEGIE DEPLACEMENT ROLE SECRET ELIMANATION GUESSING MÉMOIRE BUFF RAPIDITE | P4: ANIMAUX
A5: 1000 BORNE | B5: J3 | C5: 1 | D5: 6 ANS | E5: 2 | F5: 6 | G5: 20 MIN | H5: X | K5: 15 | L5: X | O5: CARTE COURSE | P5: COURSE
A6: 13 COURONES | B6: V3-2 | C6: 1 | D6: 7 ANS | E6: 2 | F6: 5 | G6: 30 MIN | H6: X | K6: 10 | L6: X | O6: PG STRATEGIE CARTE COMBO DEFAUSSE | P6: CONTES
A7: 13 JOURS LA CRISE DES MISSILES DE CUBA 1962 | B7: O3 | C7: 1 | D7: 14 ANS | E7: 2 | F7: 2 | G7: 45 MIN | H7: X | K7: 40 | N7: X | O7: STRATEGIE PLATEAU CARTE CONFRONTATION PLACEMENT | P7: HISTOIRE POLITIQUE
A8: 18 SOLDATS DU FEU | B8: A3 | C8: 2 | D8: 10 ANS | E8: 2 | F8: 6 | G8: 45 MIN | H8: X | K8: 30 | M8: X | O8: PLATEAU STRATEGIE COOP | P8: POMPIER
A9: 22 pommes | B9: H1 | C9: 1 | D9: 10 ANS | E9: 2 | F9: 2 | G9: 20 MIN | H9: X | K9: 15 | L9: X | O9: PG - COLLECTION | P9: AGRICULTURE
A10: 3 SECRETS | B10: V1-1 | C10: 1 | D10: 18 ANS | E10: 2 | F10: 8 | G10: 15 MIN | H10: X | K10: 10 | N10: X | O10: CARTE ENQUETE DEDUCTION SCENARIO OBSERVATION REFLEXION QUESTION | P10: POLICE
A11: 30 CARATS | B11: Q3 | C11: 1 | D11: 9 ANS | E11: 3 | F11: 6 | G11: 40 MIN | H11: X | K11: 25 | M11: X | O11: STRATEGIE CARTE BLUFFCOMMERCE DEDUCTION ENCHERE | P11: COMMERCE
A12: 4 GODS | B12: A3 | C12: 1 | D12: 10 ANS | E12: 2 | F12: 4 | G12: 30 MIN | H12: NEUF | K12: 20 | N12: X | O12: PLATEAU STRATEGIE CONSTRUCTION PLACEMENT | P12: FANTASY DIEU
A13: 5 PEPINOS 5 CORNICHONS | B13: V1-1 | C13: 1 | D13: 8 ANS | E13: 2 | F13: 6 | G13: 25 MIN | H13: X | K13: 15 | M13: X | O13: CARTE PLI | P13: NOURRITURE
A14: 6 NIMMT | B14: V1-1 | C14: 1 | D14: 10 ANS | E14: 2 | F14: 10 | G14: 45 MIN | I14: X | K14: 10 | M14: X | O14: CARTE SUITE | P14: ANIMAUX
A15: 7 WONDERS | B15: X3 ET L2 | C15: 6 | D15: 10 ANS | E15: 2 | F15: 7 | G15: 30 MIN | I15: X | K15: 10 | M15: X | O15: STRATEGIE CONSTRUCTION CARTE DRAFT COLLECTION | P15: HISTORIQUE
A16: 7 WONDERS EXT BABEL | B16: X3 | C16: 1 | D16: 10 ANS | E16: 2 | F16: 7 | G16: 40 MIN | H16: X | K16: 30 | M16: X | O16: STRATEGIE CONSTRUCTION CARTE DRAFT COLLECTION | P16: HISTORIQUE
A17: 7 WONDERS EXT CITIES | B17: X3 | C17: 1 | D17: 10 ANS | E17: 2 | F17: 8 | G17: 40 MIN | H17: X | K17: 15 | M17: X | O17: STRATEGIE CONSTRUCTION CARTE DRAFT COLLECTION OJECTIF | P17: HISTORIQUE
A18: 7 WONDERS EXT LEADERS | B18: X3 | C18: 1 | D18: 10 ANS | E18: 2 | F18: 7 | G18: 40 MIN | H18: X | K18: 15 | M18: X | O18: STRATEGIE CONSTRUCTION CARTE DRAFT COLLECTION OJECTIF | P18: HISTORIQUE
A19: 7 WONDERS PIECES DE REMPLACEMENT | B19: L2 | C19: 1 | D19: 10 ANS | E19: 2 | F19: 7 | G19: 30 MIN | I19: X | K19: 15 | M19: X | O19: STRATEGIE CONSTRUCTION CARTE DRAFT COLLECTION | P19: HISTORIQUE
A20: 8 BIT BOX | B20: K1 | C20: 1 | D20: 6 ANS | E20: 3 | F20: 6 | G20: 40 MIN | H20: X | K20: 10 | M20: X | O20: STRATEGIE PLATEAU COURSE EPREUVE CAPTURE LABYRINTHE RETROGAMING | P20: JEUX VIDEO
A21: 8 MASTER S REVENGE | B21: U4 | C21: 1 | D21: 13 ANS | E21: 1 | F21: 4 | G21: 45 MIN | H21: X | K21: 20 | M21: X | O21: STRAGIE PLATEAU CONFRONTATION AFFRONTEMENT GESTION DE MAIN SIMULATION PRISE DE RISQUE EQUIPE PLACEMENT | P21: SPORT
A22: A L HEURE DU CRIME OU ETIEZ VOUS | B22: H1 | C22: 2 | D22: 8 ANS | E22: 4 | F22: 20 | G22: 20 MIN | H22: NEUF | K22: 30 | L22: X | O22: PG IMPRO | P22: POLICIER
A23: A LA CARTE | B23: F1 | C23: 2 | D23: 8 ANS | E23: 2 | F23: 4 | G23: 45 MIN | H23: NEUF | K23: 25 | M23: X | O23: PG DEFI CONFRONTATION RAPIDITE | P23: RESTAURANT
A24: A LA CARTE DESSERT EXTENSION | B24: F1 | C24: 1 | D24: 8 ANS | E24: 2 | F24: 4 | G24: 45 MIN | H24: X | K24: 20 | M24: X | O24: PG DEFI CONFRONTATION RAPIDITE | P24: RESTAURANT
A25: AARGH TECTE | B25: G2 | C25: 1 | D25: 8 ANS | E25: 2 | F25: 6 | G25: 45 MIN | I25: X | K25: 10 | L25: X | O25: PG DEFI CONSTRUCTION MIME | P25: DELIRE
A26: Abalone | B26: K1 | C26: 1 | D26: 7 ANS | E26: 2 | F26: 2 | G26: 20 MIN | H26: X | K26: 15 | M26: X | O26: REFLEXION PLACEMENT | P26: ABSTRAIT
A27: ABER BITTE SAHNE | B27: Q4 | C27: 1 | D27: 8 ANS | E27: 2 | F27: 5 | G27: 20 MIN | I27: X | K27: 20 | M27: X | O27: STRATEGIE PLATEAU COLLECTE MAJORITE | P27: RESTAURANT
A28: ABLUXXEN | B28: V2-1 | C28: 1 | D28: 10 ANS | E28: 2 | F28: 5 | G28: 20 MIN | I28: X | K28: 25 | L28: X | O28: CARTE COLLECTION PIIOCHE | P28: ANIMAUX
A29: ABRA KAZAM | B29: S8 | C29: 1 | D29: 7 ANS | E29: 3 | F29: 8 | G29: 15 MIN | H29: X | K29: 15 | L29: X | O29: PG CARTE OBSEERVATION DEFI GESTE DEXTERITE GAGE RAPIDITE | P29: FANTASY SORCIER
A30: ABRACADA QUOI ? | B30: G2 | C30: 1 | D30: 7 ANS | E30: 2 | F30: 5 | G30: 30 MIN | H30: X | K30: 25 | M30: X | O30: PLATEAU DEDUCTION ACTION REFLEXION STOP&GO | P30: FANTASY
A31: ABYSS | B31: A2 ET X6 | C31: 2 | D31: 14 ANS | E31: 2 | F31: 4 | G31: 45 MIN | H31: X | K31: 15 | M31: X | O31: STRATEGIE PLATEAU COMBO CARTE | P31: FANTASY SOUMARINE
A32: ACROBATISSIMO | B32: K2 | C32: 1 | D32: 5 ANS | E32: 2 | F32: 4 | G32: 15 MIN | H32: X | K32: 20 | L32: X | O32: PG DEXTERITE | P32: ABSTRAIT
A33: ADASTRA | B33: C1 | C33: 1 | D33: 13 ANS | E33: 2 | F33: 5 | G33: 60 MIN | I33: X | K33: 10 | N33: X | O33: STATEGIE CARTE COLLECTION CONFRONTATION | P33: SF
A34: ADEMIMO | B34: K3 | C34: 1 | D34: 8 ANS | E34: 3 | F34: 6 | G34: 20 MIN | H34: X | K34: 25 | M34: X | O34: PG MOT PLACEMENT | P34: CULTURE Gé
A35: AEONS END | B35: U5 | C35: 1 | D35: 14 ANS | E35: 1 | F35: 4 | G35: 60 MIN | H35: X | K35: 47 | N35: X | O35: STRATEGIE DECKBUILDING AFFRONTEMENT COOP | P35: FANTASY
A36: AFRICA | B36: C3 | C36: 1 | D36: 14 ANS | E36: 3 | F36: 6 | G36: 240 MIN | H36: X | K36: 35 | N36: X | O36: STRATEGIE PLATEAU EXPLORATION GESTION DIPLPO | P36: HISTORIQUE COLONISATION
A37: AFRICANA | B37: X5 | C37: 1 | D37: 8 ANS | E37: 2 | F37: 4 | G37: 60 MIN | H37: X | K37: 20 | M37: X | O37: STRATEGIE PLATEAU CARTE COLLECTE PLACEMENT DEPLACEMENT | P37: HISTOIRE EXPLORATION
A38: AGE OF STEAM | B38: C3 | C38: 1 | D38: 13 ANS | E38: 2 | F38: 6 | G38: 180 MIN | H38: X | K38: 60 | N38: X | O38: STRATEGIE PLATEAU GESTION PLACEMENT CONSTRUCTION | P38: HISTORIQUE TRAIN
A39: AGE OF WAR | B39: V3-2 | C39: 1 | D39: 14 ANS | E39: 2 | F39: 6 | G39: 30 MIN | I39: X | K39: 25 | M39: X | O39: STRATEGIE Dé OBECTIF COMBO | P39: HISTOIRE JAPON
A40: AGENT HUNTER | B40: T1-1 | C40: 1 | D40: 10 ANS | E40: 2 | F40: 2 | G40: 15 MIN | H40: X | K40: 25 | M40: X | O40: PG CARTE DEDUCTION ELIMINATION MÉMOIRE CONFRONTATION | P40: ESPIONNAGE
A41: AGENT TROUBLE | B41: Q1-1 | C41: 1 | D41: 12 ANS | E41: 4 | F41: 8 | G41: 15 MIN | H41: X | K41: 15 | M41: X | O41: PG PLATEAU ASYMETRIE ROLE SECRET DEDUCTION TCHACH SEMI COOP BLUFF | P41: ESPIONNAGE
...

Sheet rechetche
B2: Nom du jeu : | C2: SUPERLIPOPEX
B4: lieu de stockage | C4: =VLOOKUP($C$2,inventaire!$A$1:P1930,2,FALSE) -> T3-2
B5: nombre de copie | C5: =VLOOKUP($C$2,inventaire!$A$1:P1930,3,FALSE) -> 0
B6: AGE | C6: =VLOOKUP($C$2,inventaire!$A$1:P1930,4,FALSE) -> 9 ANS
B7: nbre joueur min | C7: =VLOOKUP($C$2,inventaire!A5:P1930,5,FALSE) -> 3
B8: nbre joueur max | C8: =VLOOKUP($C$2,inventaire!$A$1:P1930,6,FALSE) -> 6
B9: durée partiemax | C9: =VLOOKUP($C$2,inventaire!$A$1:P1930,7,FALSE) -> 20 MIN
B10: bon état
B11: état moyen | C11: =VLOOKUP($C$2,inventaire!$A$1:P1930,8,FALSE)
B12: mauvais état | C12: =VLOOKUP($C$2,inventaire!$A$1:P1930,10,FALSE)

Sheet commande
B4: liste souhaité | C4: prix | F4: cde Anto | G4: 45359 | J4: Mathieu | K4: 45360
F5: ABRACADA QUOI ? | G5: G2 | H5: 25 | J5: ZOMBIES LA BLONDE LA BRUTE ET LE TRUAND | K5: J5 | L5: 100
B6: UNLOCK SHORT ADVENTURE LE VOL DE L ANGE | C6: 8 | F6: ARENA FOR THE GODS | G6: Y3 | H6: 30 | J6: GALAXY TRUCKER | K6: X5 | L6: 36
B7: UNLOCK SHORT ADVENTURELE REVEIL DE LA MOMIE | C7: 8 | F7: BANG LE JEU DE Dé WALKING DEAD | G7: I5 | H7: 20 | J7: EKETORP | K7: C3 | L7: 35
B8: UNLOCK SHORT ADVENTURE LES SECRETS DE LA PIEUVRE | C8: 8 | F8: FANTASY REALMS | G8: V2-2 | H8: 25 | J8: ELIXIR | K8: H1 | L8: 40
B9: UNLOCK SHORT ADVENTURE A LA POURSUITE DE CABRAKAN | C9: 8 | F9: VENDUS | H9: =SUM(H5:H8) -> 100 | J9: ELIXIR LA COMPIL EXTENSION | K9: H1 | L9: 50
B10: UNLOCK SHORT ADVENTURE LE DONJON DE DOO-ARANN | C10: 8 | J10: CASH AND GUN | K10: F1 | L10: 25
B11: UNLOCK ESCAPE ADVENTURE | C11: 25 | F11: CAMUEL up | G11: X4 | H11: 30 | J11: VENDUS | L11: =SUM(L5:L10) -> 286
B12: UNLOCK ESCAPE EPIC ADVENTURE | C12: 30 | F12: SPLENDOR : EXT LES CITES DE SPLENDOR | G12: U1 | H12: 30
B13: UNLOCK ESCAPE EXOTIC ADVENTURE | C13: 30 | F13: VENDUS | H13: =SUM(H11:H12) -> 60
B14: UNLOCK ESCAPE HEROIC ADVENTURE | C14: 30 | J14: STEFAN QUERU | K14: 45360
B15: UNLOCK ESCAPE MYSTERY ADVENTURE | C15: 30 | J15: SUPERLIPOPEX | K15: T3-2 | L15: 23
B16: UNLOCK ESCAPE MYTHIC ADVENTURE | C16: 30 | F16: Yuki Yan et copines | G16: 45359 | J16: IT S A WONDERFUL WORLD | K16: X11 | L16: 35
B17: UNLOCK ESCAPE SECRET ADVENTURE | C17: 30 | F17: DRAFTOSAURUS | G17: S2 | H17: 20 | J17: VENDU | L17: =SUM(L15:L16) -> 58
B18: UNLOCK ESCAPE STAR WARS | C18: 30 | F18: DECROCHER LA LUNE | G18: W4 | H18: 20
B19: UNLOCK ESCAPE TIMELESS ADVENTURE | C19: 30 | F19: VENDUS | H19: =SUM(H17:H18) -> 40 | J19: Marc dodinot | K19: 45366
B20: total | C20: 305 | J20: =inventaire!A124 -> BLOOD BOWL TEAM MANAGER LE JEU DE CARTE | K20: =inventaire!B124 -> I1 | L20: =inventaire!K124 -> 30
J21: =inventaire!A359 -> DOMINION | K21: =inventaire!B359 -> U8 | L21: =inventaire!K359 -> 30
F22: Estelle Marques | G22: 45367 | J22: VENDUS | L22: 60
F23: MAGIC MAZE | G23: Y3 | H23: 20
B24: COLLEGUE NICO | F24: PIT ed 2008 | G24: O7-1 | H24: 18 | J24: Matthieu Bonin | K24: 45366
B25: =inventaire!A479 -> GOSU ed 2010 | C25: =inventaire!B479 -> G3 | D25: =inventaire!K479 -> 30 | F25: LA BONNE PAYE edition parker 1996 | G25: J2 | H25: 20 | J25: =inventaire!A420 -> FAST FOUILLE | K25: =inventaire!B420 -> T3-3 | L25: =inventaire!K420 -> 15
F26: LOVE LETTER | G26: V1-1 | H26: 5 | J26: =inventaire!A408 -> EXCAPE | K26: =inventaire!B408 -> G1 | L26: =inventaire!K408 -> 20
F27: VENDUS | H27: =H23+H24+H25+H26 -> 63 | L27: =SUM(L25:L26) -> 35
J29: Romain Duga | K29: 45367
F30: clemence lambolez | G30: 45367 | J30: =inventaire!A106 -> BATTLESTAR GALACTICA LE EXT pegasus | K30: =inventaire!B106 -> N1 | L30: =inventaire!K106 -> 76
F31: =inventaire!A492 -> GUILLOTINE | G31: =inventaire!B492 -> C4 | H31: =inventaire!K492 -> 20 | J31: =inventaire!A692 -> LA VALLEE DES MAMOUTHS | K31: =inventaire!B692 -> C2 | L31: =inventaire!K692 -> 25
H32: =SUM(H31) -> 20 | J32: =inventaire!A1259 -> STARCRAFT EXTENSION BROOD WAR | K32: =inventaire!B1259 -> M5 | L32: =inventaire!K1259 -> 80
J33: =inventaire!A1210 -> SNOW TAILS | K33: =inventaire!B1210 -> G3 | L33: =inventaire!K1210 -> 30
F34: Jeu pour Hugo | J34: =inventaire!A691 -> LA VALLEE DES MAMOUTHS ext | K34: =inventaire!B691 -> C1 | L34: =inventaire!K691 -> 40
F35: RUSH HOUR | G35: K2 | H35: 25 | J35: VENDUS | L35: =SUM(L30:L34) -> 251
B37: denis le thorel | C37: 45366 | F37: VENDUS | H37: =SUM(H35:H36) -> 25
B38: =inventaire!A465 -> GANMBIT 7 | C38: =inventaire!B465 -> F3 | D38: =inventaire!K465 -> 15 | J38: carole | K38: 45366
B39: =inventaire!A385 -> DURCH DIE WURST | C39: =inventaire!B385 -> C1 | D39: =inventaire!K385 -> 15 | F39: Isabelle Rio | G39: 45367 | J39: =inventaire!A657 -> L AGE DE PIERRE EXTENSION | K39: =inventaire!B657 -> C1 | L39: =inventaire!K657 -> 30
D40: =SUM(D38:D39) -> 30 | F40: =inventaire!A1027 -> PIKOMINO | G40: =inventaire!B1027 -> V2-1 ET H1 | H40: =inventaire!K1027 -> 10 | J40: VENDUS | L40: =SUM(L39) -> 30
F41: =inventaire!A1281 -> SUSHI BAR | G41: =inventaire!B1281 -> T4-1 | H41: =inventaire!K1281 -> 20
B42: thomas roth | C42: 45366 | J42: Stephane boucley | K42: 45367
B43: =inventaire!A807 -> MARCO POLO | C43: =inventaire!B807 -> J2 | D43: =inventaire!K807 -> 25 | J43: =inventaire!A71 -> ASCENSION DES AMES DECHAINEES | K43: =inventaire!B71 -> G3 | L43: 25
B44: =inventaire!A864 -> MINIVILLES EXT GREEN VALLEY | C44: =inventaire!B864 -> T3-2 | D44: =inventaire!K864 -> 20.9 | J44: =inventaire!A72 -> ASCENSION DES HEROS IMMORTELS | K44: =inventaire!B72 -> G3 | L44: 25
F45: Philippe Marchand | G45: 45368 | J45: =inventaire!A73 -> ASCENSION LA RENAISSANCE DE VIGIL | K45: =inventaire!B73 -> G3 | L45: 20
...

Sheet jeux achetés manquant
A1: jeux manquants | B1: prix | C1: qtté
A2: keskife ? | B2: 12 | C2: 1
A3: QWINTO | B3: 15 | C3: 1
A4: BABA YAGA | B4: 25 | C4: 1

Sheet Feuille 4
A1: 1960 kennedy vs nixon | B1: neuf
A2: 51eme etat | F2: romain | G2: =A113 -> space hulk | H2: 200
A3: 8 bit box | G3: =A137 -> warhammer chaos dans le vieux monde | H3: 60
A4: alcatraz | G4: la compagnie de merlin ext CdTR | H4: 50
A5: alea iacta est | B5: neuf | G5: kennedy & nixo, | H5: 60
A6: andor | H6: =SUM(H2:H5) -> 370
A7: arboria
A8: armada 3
A9: art moderne | F9: mathieyx | G9: diplomacie | H9: 40
A10: asteroyds | B10: neuf | G10: mare nostrum | H10: 40
A11: astoria
A12: attrape terriens
A13: batik | F13: vincent | G13: taggle | H13: 50
A14: burger quizz | G14: warhammer | H14: 50
A15: cardline animaux
A16: carson city
A17: carte cassone
A18: cash and gun seconde ed | B18: neuf
A19: châteeau adventure
A20: claustrophobia
A21: comment j'ai adopté un gnou
A22: conan le jeu de plateau | B22: neuf
A23: cyclades
A24: de cape et d'épée
A25: diplomacy parker
A26: dominion | B26: neuf
A27: dune
A28: dungeaon lord
A29: dungeaon quest | B29: neuf
A30: dungeon pets
A31: dungeon twister prison | B31: neuf
A32: dungeon twister
A33: emile empile
A34: endeavor | B34: neuf
A35: evo
A36: fantomes contre fantomes
A37: finca
A38: first empires
A39: five tribes les djinns de nagala
A40: flamme rouge
...

Sheet Feuille 5
A6: DREAM FACTORY | B6: 35
A7: COMPACT BOWLING | B7: 20
A8: COMPACT CURLING | B8: 20
A9: Total | B9: =SUM(B4:B8) -> 75

Sheet Feuille 7
A1: total vente jeu | B1: =commande!H9+commande!L11++commande!H13+commande!H19+commande!H27+commande!H19+commande!L35+commande!L40+commande!L48+commande!L52-15 -> 1005
G4: nico | H4: patrick
A5: un tier | B5: =B1/3 -> 335 | D5: =B5+B6 -> 418.75 | F5: le 16/3/24 | G5: 419 | H5: 586
A6: un quart | B6: =B5/4 -> 83.75 | D6: =B5+(3*B6) -> 586.25 | F6: le 17/3/24 | G6: 150 | H6: 126
B7: , | D7: =SUM(D5:D6) -> 1005
A12: 50 | B12: 5 | C12: =A12*B12 -> 250
A13: 20 | B13: 1 | C13: =A13*B13 -> 20
A14: 10 | B14: 1 | C14: =A14*B14 -> 10
A15: 5 | B15: 0 | C15: =A15*B15 -> 0
A16: 2 | B16: 0 | C16: =A16*B16 -> 0
A17: 1 | B17: 0 | C17: =A17*B17 -> 0
C18: =SUM(C12:C17) -> 280
C19: =C18-B1 -> -725
A22: 0
A23: =A22/3 -> 0 | C23: =A23+A24 -> 0
A24: =A23/4 -> 0 | C24: =A23+(3*A24) -> 0
A25: , | C25: =SUM(C23:C24) -> 0
