Workbook

Sheet inventaire
A1: nom du jeux | B1: lieu de stockage | C1: nombre de copie | D1: AGE | E1: nbre joueur min | F1: nbre joueur max | G1: durée partie | H1: bon état | I1: état moyen | J1: mauvais état | K1: valeur | L1: FACILE | M1: MOYEN | N1: expert | O1: GENRE | P1: theme
A3: 5211 | B3: V2-2 | C3: 1 | D3: 8 ANS | E3: 2 | F3: 5 | G3: 20 MIN | H3: X | K3: 20 | L3: X | O3: CARTE STRATEGIE BLUFF OBSERVATION MAJORITE | P3: ABSTRAIT
A4: 10 ' TO KILL | B4: D1 | C4: 1 | D4: 14 ANS | E4: 2 | F4: 4 | G4: 10 MIN | H4: X | K4: 30 | M4: X | O4: STRATEGIE DEPLACEMENT ROLE SECRET ELIMANATION GUESSING MÉMOIRE BUFF RAPIDITE | P4: ANIMAUX
A5: 1000 BORNE | B5: J3 | C5: 1 | D5: 6 ANS | E5: 2 | F5: 6 | G5: 20 MIN | H5: X | K5: 15 | L5: X | O5: CARTE COURSE | P5: COURSE
A6: 13 COURONES | B6: V3-2 | C6: 1 | D6: 7 ANS | E6: 2 | F6: 5 | G6: 30 MIN | H6: X | K6: 10 | L6: X | O6: PG STRATEGIE CARTE COMBO DEFAUSSE | P6: CONTES
A7: 13 JOURS LA CRISE DES MISSILES DE CUBA 1962 | B7: O3 | C7: 1 | D7: 14 ANS | E7: 2 | F7: 2 | G7: 45 MIN | H7: X | K7: 40 | N7: X | O7: STRATEGIE PLATEAU CARTE CONFRONTATION PLACEMENT | P7: HISTOIRE POLITIQUE
A8: 18 SOLDATS DU FEU | B8: A3 | C8: 2 | D8: 10 ANS | E8: 2 | F8: 6 | G8: 45 MIN | H8: X | K8: 30 | M8: X | O8: PLATEAU STRATEGIE COOP | P8: POMPIER
A9: 22 pommes | B9: H1 | C9: 1 | D9: 10 ANS | E9: 2 | F9: 2 | G9: 20 MIN | H9: X | K9: 15 | L9: X | O9: PG - COLLECTION | P9: AGRICULTURE
A10: 3 SECRETS | B10: V1-1 | C10: 1 | D10: 18 ANS | E10: 2 | F10: 8 | G10: 15 MIN | H10: X | K10: 10 | N10: X | O10: CARTE ENQUETE DEDUCTION SCENARIO OBSERVATION REFLEXION QUESTION | P10: POLICE
A11: 30 CARATS | B11: Q3 | C11: 1 | D11: 9 ANS | E11: 3 | F11: 6 | G11: 40 MIN | H11: X | K11: 25 | M11: X | O11: STRATEGIE CARTE BLUFFCOMMERCE DEDUCTION ENCHERE | P11: COMMERCE
A12: 4 GODS | B12: A3 | C12: 1 | D12: 10 ANS | E12: 2 | F12: 4 | G12: 30 MIN | H12: NEUF | K12: 20 | N12: X | O12: PLATEAU STRATEGIE CONSTRUCTION PLACEMENT | P12: FANTASY DIEU
A13: 5 PEPINOS 5 CORNICHONS | B13: V1-1 | C13: 1 | D13: 8 ANS | E13: 2 | F13: 6 | G13: 25 MIN | H13: X | K13: 15 | M13: X | O13: CARTE PLI | P13: NOURRITURE
A14: 6 NIMMT | B14: V1-1 | C14: 1 | D14: 10 ANS | E14: 2 | F14: 10 | G14: 45 MIN | I14: X | K14: 10 | M14: X | O14: CARTE SUITE | P14: ANIMAUX
A15: 7 WONDERS | B15: X3 ET L2 | C15: 6 | D15: 10 ANS | E15: 2 | F15: 7 | G15: 30 MIN | I15: X | K15: 10 | M15: X | O15: STRATEGIE CONSTRUCTION CARTE DRAFT COLLECTION | P15: HISTORIQUE
A16: 7 WONDERS EXT BABEL | B16: X3 | C16: 1 | D16: 10 ANS | E16: 2 | F16: 7 | G16: 40 MIN | H16: X | K16: 30 | M16: X | O16: STRATEGIE CONSTRUCTION CARTE DRAFT COLLECTION | P16: HISTORIQUE
A17: 7 WONDERS EXT CITIES | B17: X3 | C17: 1 | D17: 10 ANS | E17: 2 | F17: 8 | G17: 40 MIN | H17: X | K17: 15 | M17: X | O17: STRATEGIE CONSTRUCTION CARTE DRAFT COLLECTION OJECTIF | P17: HISTORIQUE
A18: 7 WONDERS EXT LEADERS | B18: X3 | C18: 1 | D18: 10 ANS | E18: 2 | F18: 7 | G18: 40 MIN | H18: X | K18: 15 | M18: X | O18: STRATEGIE CONSTRUCTION CARTE DRAFT COLLECTION OJECTIF | P18: HISTORIQUE
A19: 7 WONDERS PIECES DE REMPLACEMENT | B19: L2 | C19: 1 | D19: 10 ANS | E19: 2 | F19: 7 | G19: 30 MIN | I19: X | K19: 15 | M19: X | O19: STRATEGIE CONSTRUCTION CARTE DRAFT COLLECTION | P19: HISTORIQUE
A20: 8 BIT BOX | B20: K1 | C20: 1 | D20: 6 ANS | E20: 3 | F20: 6 | G20: 40 MIN | H20: X | K20: 10 | M20: X | O20: STRATEGIE PLATEAU COURSE EPREUVE CAPTURE LABYRINTHE RETROGAMING | P20: JEUX VIDEO
A21: 8 MASTER S REVENGE | B21: U4 | C21: 1 | D21: 13 ANS | E21: 1 | F21: 4 | G21: 45 MIN | H21: X | K21: 20 | M21: X | O21: STRAGIE PLATEAU CONFRONTATION AFFRONTEMENT GESTION DE MAIN SIMULATION PRISE DE RISQUE EQUIPE PLACEMENT | P21: SPORT
A22: A L HEURE DU CRIME OU ETIEZ VOUS | B22: H1 | C22: 2 | D22: 8 ANS | E22: 4 | F22: 20 | G22: 20 MIN | H22: NEUF | K22: 30 | L22: X | O22: PG IMPRO | P22: POLICIER
A23: A LA CARTE | B23: F1 | C23: 2 | D23: 8 ANS | E23: 2 | F23: 4 | G23: 45 MIN | H23: NEUF | K23: 25 | M23: X | O23: PG DEFI CONFRONTATION RAPIDITE | P23: RESTAURANT
A24: A LA CARTE DESSERT EXTENSION | B24: F1 | C24: 1 | D24: 8 ANS | E24: 2 | F24: 4 | G24: 45 MIN | H24: X | K24: 20 | M24: X | O24: PG DEFI CONFRONTATION RAPIDITE | P24: RESTAURANT
A25: AARGH TECTE | B25: G2 | C25: 1 | D25: 8 ANS | E25: 2 | F25: 6 | G25: 45 MIN | I25: X | K25: 10 | L25: X | O25: PG DEFI CONSTRUCTION MIME | P25: DELIRE
A26: Abalone | B26: K1 | C26: 1 | D26: 7 ANS | E26: 2 | F26: 2 | G26: 20 MIN | H26: X | K26: 15 | M26: X | O26: REFLEXION PLACEMENT | P26: ABSTRAIT
A27: ABER BITTE SAHNE | B27: Q4 | C27: 1 | D27: 8 ANS | E27: 2 | F27: 5 | G27: 20 MIN | I27: X | K27: 20 | M27: X | O27: STRATEGIE PLATEAU COLLECTE MAJORITE | P27: RESTAURANT
A28: ABLUXXEN | B28: V2-1 | C28: 1 | D28: 10 ANS | E28: 2 | F28: 5 | G28: 20 MIN | I28: X | K28: 25 | L28: X | O28: CARTE COLLECTION PIIOCHE | P28: ANIMAUX
A29: ABRA KAZAM | B29: S8 | C29: 1 | D29: 7 ANS | E29: 3 | F29: 8 | G29: 15 MIN | H29: X | K29: 15 | L29: X | O29: PG CARTE OBSEERVATION DEFI GESTE DEXTERITE GAGE RAPIDITE | P29: FANTASY SORCIER
A30: ABRACADA QUOI ? | B30: G2 | C30: 1 | D30: 7 ANS | E30: 2 | F30: 5 | G30: 30 MIN | H30: X | K30: 25 | M30: X | O30: PLATEAU DEDUCTION ACTION REFLEXION STOP&GO | P30: FANTASY
A31: ABYSS | B31: A2 ET X6 | C31: 2 | D31: 14 ANS | E31: 2 | F31: 4 | G31: 45 MIN | H31: X | K31: 15 | M31: X | O31: STRATEGIE PLATEAU COMBO CARTE | P31: FANTASY SOUMARINE
A32: ACROBATISSIMO | B32: K2 | C32: 1 | D32: 5 ANS | E32: 2 | F32: 4 | G32: 15 MIN | H32: X | K32: 20 | L32: X | O32: PG DEXTERITE | P32: ABSTRAIT
A33: ADASTRA | B33: C1 | C33: 1 | D33: 13 ANS | E33: 2 | F33: 5 | G33: 60 MIN | I33: X | K33: 10 | N33: X | O33: STATEGIE CARTE COLLECTION CONFRONTATION | P33: SF
A34: ADEMIMO | B34: K3 | C34: 1 | D34: 8 ANS | E34: 3 | F34: 6 | G34: 20 MIN | H34: X | K34: 25 | M34: X | O34: PG MOT PLACEMENT | P34: CULTURE Gé
A35: AEONS END | B35: U5 | C35: 1 | D35: 14 ANS | E35: 1 | F35: 4 | G35: 60 MIN | H35: X | K35: 47 | N35: X | O35: STRATEGIE DECKBUILDING AFFRONTEMENT COOP | P35: FANTASY
A36: AFRICA | B36: C3 | C36: 1 | D36: 14 ANS | E36: 3 | F36: 6 | G36: 240 MIN | H36: X | K36: 35 | N36: X | O36: STRATEGIE PLATEAU EXPLORATION GESTION DIPLPO | P36: HISTORIQUE COLONISATION
A37: AFRICANA | B37: X5 | C37: 1 | D37: 8 ANS | E37: 2 | F37: 4 | G37: 60 MIN | H37: X | K37: 20 | M37: X | O37: STRATEGIE PLATEAU CARTE COLLECTE PLACEMENT DEPLACEMENT | P37: HISTOIRE EXPLORATION
A38: AGE OF STEAM | B38: C3 | C38: 1 | D38: 13 ANS | E38: 2 | F38: 6 | G38: 180 MIN | H38: X | K38: 60 | N38: X | O38: STRATEGIE PLATEAU GESTION PLACEMENT CONSTRUCTION | P38: HISTORIQUE TRAIN
A39: AGE OF WAR | B39: V3-2 | C39: 1 | D39: 14 ANS | E39: 2 | F39: 6 | G39: 30 MIN | I39: X | K39: 25 | M39: X | O39: STRATEGIE Dé OBECTIF COMBO | P39: HISTOIRE JAPON
A40: AGENT HUNTER | B40: T1-1 | C40: 1 | D40: 10 ANS | E40: 2 | F40: 2 | G40: 15 MIN | H40: X | K40: 25 | M40: X | O40: PG CARTE DEDUCTION ELIMINATION MÉMOIRE CONFRONTATION | P40: ESPIONNAGE
A41: AGENT TROUBLE | B41: Q1-1 | C41: 1 | D41: 12 ANS | E41: 4 | F41: 8 | G41: 15 MIN | H41: X | K41: 15 | M41: X | O41: PG PLATEAU ASYMETRIE ROLE SECRET DEDUCTION TCHACH SEMI COOP BLUFF | P41: ESPIONNAGE
A42: AGENTS SECRETS | B42: T2-3 ET L2 | C42: 6 | D42: 10 ANS | E42: 6 | F42: 12 | G42: 45 MIN | H42: X | K42: 25 | M42: X | O42: ROLE SECRET TCHACH DEDUCTION GUESSING BLUFF ELIMINATION | P42: ESPIONNAGE
A43: ALADIN ET LA LAMPE MERVEUILLEUSE | B43: N3 | C43: 1 | D43: 7 ANS | E43: 2 | F43: 5 | G43: 20 MIN | H43: X | K43: 20 | L43: X | O43: PG Dé CARTE PROGRAMMATION COLLECTE MAJORITE | P43: CONTES
A44: ALCHIMISTES | B44: Y1 | C44: 1 | D44: 13 ANS | E44: 2 | F44: 4 | G44: 120 MIN | H44: X | K44: 35 | N44: X | O44: STRATEGIE PLATEAU ENCHERE BLUFF PLACEMENT GESTION APPLI DEDUCTION ACTION COLLECTE COMMERCE | P44: FANTASY
A45: Alhambra | B45: A1 | C45: 1 | D45: 8 ANS | E45: 2 | F45: 6 | G45: 60 MIN | I45: X | K45: 30 | M45: X | O45: STRATEGIE CONSTRUCTION | P45: HISTORIQUE
A46: ALI | B46: G2 | C46: 1 | D46: 8 ANS | E46: 3 | F46: 5 | G46: 15 MIN | H46: X | K46: 20 | L46: X | O46: STRATEGIE CARTE COLLECTION STOP&GO | P46: HISTOIRE ORIENT
A47: ALIENNE MENACE | B47: L1 | C47: 1 | D47: 10 ANS | E47: 2 | F47: 2 | G47: 30 MIN | H47: NEUF | K47: 19 | L47: X | M47: X | O47: CARTES ACTION AFFRONTEMENT | P47: SF
A48: ALLEZ SAUTE ! | B48: J3 | C48: 1 | D48: 5 ANS | E48: 2 | F48: 4 | G48: 30 MIN | J48: X | K48: 20 | L48: X | O48: PLATEAU DYNAMIQUE 3D DEXTERITE DEPLACEMENT | P48: SPORT
A49: AMELIA S SECRETS ESCAPE IN THE DARK | B49: O5 | C49: 1 | D49: 12 ANS | E49: 1 | F49: 4 | G49: 60 MIN | H49: NEUF | K49: 24.9 | M49: X | O49: ESCAPE GAME RA APLLI DEDUCTION GUESSING OBSERVATION | P49: HORREUR
A50: AMUL LA CITE DES MARCHANDS | B50: U3 | C50: 1 | D50: 10 ANS | E50: 3 | F50: 8 | G50: 45 MIN | I50: X | K50: 50 | M50: X | O50: STRATEGIE PLATEAU CARTE GESTION COMBO GESTION DE MAIN | P50: HISTOIRE ORIENT
A51: ANACHRONISM KIT STARTER | B51: G3 | C51: 1 | D51: 8 ANS | E51: 2 | F51: 2 | G51: 5 MIN | H51: X | K51: 50 | N51: X | O51: STRATEGIE DECKBUILDING CONFRONTATION | P51: HISTOIRE
A52: ANDOR | B52: X4 | C52: 1 | D52: 10 ANS | E52: 2 | F52: 4 | G52: 90 MIN | I52: X | K52: 45 | M52: X | O52: STRATEGIE PLATEAU Dé SCENARIO COOP ROLE DEPLACEMENT NARRATION | P52: FANTASY
A53: ANDROID NETRUNNER | B53: I1 | C53: 1 | D53: 14 ANS | E53: 2 | F53: 2 | G53: 90 MIN | I53: X | K53: 40 | N53: X | O53: STRATEGIE CARTE DECKBUILDING CONFRONTATION GUESSING | P53: SF
A54: ANTAGONE | B54: G3 | C54: 1 | D54: 9 ANS | E54: 2 | F54: 4 | G54: 35 MIN | H54: X | K54: 25 | M54: X | O54: STRATEGIE PLATEAU SIMULATION CONFRONTATION | P54: SPORT
A55: ANTARTIK | B55: H1 | C55: 1 | D55: 5 ANS | E55: 2 | F55: 5 | G55: 15 MIN | H55: X | K55: 30 | M55: X | O55: PG CARTE PIOCHE STOP&GO PARI | P55: ANIMAUX
A56: APERITIVO | B56: G1 | C56: 1 | D56: 6 ANS | E56: 2 | F56: 5 | G56: 15 MIN | I56: X | K56: 15 | L56: X | O56: PG DEXTERITE | P56: RESTAURANT
A57: AQUARIUM | B57: I5 | C57: 1 | D57: 10 ANS | E57: 2 | F57: 6 | G57: 45 MIN | H57: X | K57: 30 | M57: X | O57: CARTE COLLECTION ENCHERE | P57: ANIMAUX
A58: ARAMINI CIRCUS | B58: T1-1 | C58: 1 | D58: 8 ANS | E58: 2 | F58: 4 | G58: 20 MIN | H58: X | K58: 20 | M58: X | O58: PG CARTE GESTION DE MAIN COLLECTION | P58: ANIMAUX
A59: ARBORETUM | B59: V4-1 | C59: 1 | D59: 8 ANS | E59: 2 | F59: 4 | G59: 30 MIN | H59: X | K59: 25 | M59: X | O59: CARTE PIOCHE PLACEMENT GESTION DE MAIN COMBO | P59: NATURE
A60: Architekton | B60: A1 | C60: 1 | D60: 8 ANS | E60: 2 | F60: 2 | G60: 45 MIN | H60: NEUF | K60: 35 | N60: X | O60: STRATEGIE CONSTRUCTION | P60: HISTOIRE ANTIQUITE
A61: ARGH | B61: H1 | C61: 1 | D61: 8 ANS | E61: 2 | F61: 4 | G61: 15 MIN | H61: X | K61: 20 | L61: X | O61: PG CARTE BLUFF GUESSING | P61: ANIMAUX
A62: ARENA FOR THE GODS | B62: Y3 | C62: 0 | D62: 8 ANS | E62: 2 | F62: 6 | G62: 30 MIN | H62: X | K62: 30 | M62: X | O62: STRATEGIE PLATEAU 3D MODULAIRE ENCHERE COLLECTE PLACEMENT DEPLACEMENT CONFRONTATION | P62: FANTASY
A63: ARGO | B63: I1 | C63: 1 | D63: 13 ANS | E63: 2 | F63: 4 | G63: 40 MIN | H63: X | K63: 25 | M63: X | O63: STRATEGIE PLATEAU MODULAIRE DUNGEONCRAWLER SEMI COOP AFFRONTEMENT | P63: SF
A64: ARLEQUIN | B64: N4-1 | C64: 1 | D64: 12 ANS | E64: 2 | F64: 6 | G64: 30 MIN | H64: X | K64: 20 | L64: X | O64: PG CARTE BLUFF ELIMINATION COMBINAISON | P64: CONTES
A65: ARMADORA | B65: T2-3 | C65: 1 | D65: 8 ANS | E65: 2 | F65: 4 | G65: 30 MIN | H65: X | K65: 40 | M65: X | O65: STRATEGIE PALTEAU PLACEMENT MAJORITE GUESSING MÉMOIRE | P65: FANTASY
A66: ART EXPRESS | B66: H2 | C66: 1 | D66: 8 ANS | E66: 2 | F66: 8 | G66: 20 MIN | I66: X | K66: 20 | L66: X | O66: PG QUESTION | P66: CULTURE Gé
A67: ARTHIFICIUM | B67: C2 | C67: 1 | D67: 8 ANS | E67: 2 | F67: 6 | G67: 30 MIN | H67: X | K67: 30 | M67: X | O67: STRATEGIE CARTE GESTION | P67: FANTASY HEROIC
A68: ARTIC SCAVENGER | B68: I1 | C68: 1 | D68: 13 ANS | E68: 2 | F68: 5 | G68: 60 MIN | H68: X | K68: 20 | N68: X | O68: STRATEGIE CARTE DECKBUILDING CONFRONTATION GUESSING | P68: SF
A69: ARTUS ET LA TABLE RONDE | B69: G1 | C69: 1 | D69: 9 ANS | E69: 2 | F69: 4 | G69: 60 MIN | H69: X | K69: 35 | N69: X | O69: STRATEGIE PLATEAU DEPLACEMENT CARTE COMBO OBJECTIF SECRET | P69: HISTOIRE ANGLETERRE
A70: ASANTE | B70: G1 | C70: 1 | D70: 12 ANS | E70: 2 | F70: 2 | G70: 40 MIN | H70: X | K70: 25 | L70: X | O70: STRATEGIE CARTE COMBO PLACEMENT | P70: COMMERCE
A71: ASCENSION DES AMES DECHAINEES | B71: G3 | C71: 0 | D71: 14 ANS | E71: 2 | F71: 4 | G71: 30 MIN | H71: vendu | K71: 25 | N71: X | O71: STRATEGIE DECKBUILDING CONFRONTATION | P71: FANTASY
A72: ASCENSION DES HEROS IMMORTELS | B72: G3 | C72: 0 | D72: 14 ANS | E72: 2 | F72: 4 | G72: 30 MIN | H72: vendu | K72: 25 | N72: X | O72: STRATEGIE DECKBUILDING CONFRONTATION | P72: FANTASY
A73: ASCENSION LA RENAISSANCE DE VIGIL | B73: G3 | C73: 0 | D73: 14 ANS | E73: 2 | F73: 4 | G73: 30 MIN | H73: vendu | K73: 20 | N73: X | O73: STRATEGIE DECKBUILDING CONFRONTATION | P73: FANTASY
A74: ASCENSION LA VENGANCE DES TENEBRES | B74: G3 | C74: 0 | D74: 14 ANS | E74: 2 | F74: 4 | G74: 30 MIN | H74: vendu | K74: 20 | N74: X | O74: STRATEGIE DECKBUILDING CONFRONTATION | P74: FANTASY
A75: ASSYRIA | B75: S6 | C75: 1 | D75: 12 ANS | E75: 2 | F75: 4 | G75: 90 MIN | H75: NEUF | K75: 40 | N75: X | O75: STRATEGIE PLATEAU DEPLACEMENT GESTION CONQUETE MAJORITE | P75: HISTOIRE ORIENT
A76: ATLANTIS RISING | B76: A4 | C76: 1 | D76: 10 ANS | E76: 2 | F76: 6 | G76: 90 MIN | H76: X | K76: 30 | N76: X | O76: STRATEGIE PLATEAU GESTION CONFRONTATION | P76: LEGENDE ANTIQUE
A77: ATLAS&ZEUS ED2004 | B77: I2 | C77: 1 | D77: 10 ANS | E77: 2 | F77: 2 | G77: 30 MIN | H77: X | K77: 20 | M77: X | O77: CARTES AFFRONTEMENT PROGRAMMATION | P77: ANTIQUITE
A78: ATTACK OF THE JELLY MONSTER | B78: I4 | C78: 1 | D78: 8 ANS | E78: 3 | F78: 5 | G78: 15 MIN | H78: X | K78: 20 | M78: X | O78: PG STRATEGIE PLATEAU MODULAIRE Dé RAPIDITE MAJORITE | P78: SF DELIRE
A79: ATTILA | B79: V4-1 | C79: 1 | D79: 7 ANS | E79: 2 | F79: 2 | G79: 15 MIN | H79: X | K79: 40 | L79: X | O79: PG STRATEGIE PLATEAU MODULAIRE PLACEMENT DEPLACEMENT BLOCAGE | P79: HISTOIRE MONGOLE
A80: AU LES NAINS | B80: A1 | C80: 1 | D80: 8 ANS | E80: 2 | F80: 4 | G80: 20 MIN | I80: X | K80: 30 | L80: X | O80: STRATEGIE DUEL CARTE PLACEMENT | P80: NAIN DE JARDIN
A81: AU VOLEUR ! | B81: J3 | C81: 1 | D81: 6 ANS | E81: 2 | F81: 6 | G81: 20 MIN | I81: X | K81: 15 | L81: X | O81: OBSERVATION DEDUCTION RAPIDITE | P81: GANSTER
A82: AUF ZACK | B82: F2 | C82: 1 | D82: 5 ANS | E82: 2 | F82: 5 | G82: 20 MIN | H82: X | K82: 15 | L82: X | O82: PG MEMOIR CHIFFRE RAPIDITE | P82: ABSTRAIT
A83: AUGUSTUS | B83: U8 | C83: 1 | D83: 8 ANS | E83: 2 | F83: 6 | G83: 30 MIN | I83: X | K83: 35 | L83: X | O83: PG STRATEGIE CARTE HASARD GESTION DE MAIN CHOIX SIMULTANE COMBO OBJECTIF COLLECTION | P83: HISTOIRE ANTIQUITE
A84: AUSTRALIA | B84: A3 | C84: 1 | D84: 10 ANS | E84: 2 | F84: 5 | G84: 90 MIN | H84: NEUF | K84: 40 | M84: X | O84: PLATEAU PLACEMENT EXPLORATION | P84: ECOLOGIE
A85: AVALAM | B85: K1 | C85: 1 | D85: 7 ANS | E85: 2 | F85: 2 | G85: 20 MIN | H85: X | K85: 20 | M85: X | O85: REFLEXION | P85: ABSTRAIT
A86: AVE CESAR | B86: A2 | C86: 1 | D86: 12 ANS | E86: 3 | F86: 6 | G86: 30 MIN | H86: X | K86: 30 | M86: X | O86: STRATEGIE PLATEAU COURSE | P86: HISTORIQUE ROMAIN
A87: AXIS&ALLIES STARTER REGROUPES (10) DANS 2 BOITES | B87: M2 | C87: 2 | D87: 14 ANS | E87: 2 | F87: 5 | G87: 240 MIN | H87: X | K87: 100 | N87: X | O87: STRATEGIE PLATEAU WARGAME | P87: GUERRE
A88: AZTLAN | B88: C5 | C88: 1 | D88: 13 ANS | E88: 2 | F88: 4 | G88: 60 MIN | H88: X | K88: 40 | N88: X | O88: STRATEGIE PLATEAU CONQUETE GESTION CONFRONTATION | P88: HISTORIQUE CIVILISATION
A89: AZUL | B89: S5 | C89: 1 | D89: 8 ANS | E89: 2 | F89: 4 | G89: 45 MIN | H89: X | K89: 35 | M89: X | O89: STRATEGIE PLACEMENT COMBO | P89: Portugal
A90: BABA YAGA | B90: N3 | C90: 1 | D90: 6 ANS | E90: 2 | F90: 5 | G90: 15 MIN | H90: X | K90: 25 | L90: X | O90: PG MÉMOIRE TUILE DEPLACEMENT OBJECTIF CACHE OBSERVATION RAPIDITE | P90: CONTES
A91: BABY BOOM | B91: G2 | C91: 1 | D91: 7 ANS | E91: 2 | F91: 4 | G91: 30 MIN | H91: X | K91: 20 | M91: X | O91: STRATEGIE PLATEAU PLACEMENT Dé | P91: ABSTRAIT
A92: BAHAMAS | B92: V1-2 | C92: 1 | D92: 10 ANS | E92: 4 | F92: 8 | G92: 30 MIN | H92: X | K92: 25 | M92: X | O92: PG STRATEGIE CARTE Dé COLLECTION | P92: GANGSTER
A93: BAIAM | B93: S5 | C93: 1 | D93: 7 ANS | E93: 1 | F93: 4 | G93: 45 MIN | H93: X | K93: 20 | M93: X | O93: JDR ROLE TCHACH SCENARIO MÉMOIRE DEDUCTION OBSERVATION | P93: PIRATE
A94: BAKER STREET | B94: A1 | C94: 1 | D94: 10 ANS | E94: 2 | F94: 2 | G94: 45 MIN | H94: X | K94: 30 | M94: X | O94: STRATEGIE CARTE ENQUETE | P94: HISTORIQUE 19EM
A95: BAKONG | B95: C3 | C95: 1 | D95: 8 ANS | E95: 2 | F95: 6 | G95: 30 MIN | H95: X | K95: 25 | L95: X | O95: STRATEGIE PLATEAU COURSE | P95: AVENTURE
A96: BANCO SUR LE PËTROLE | B96: J3 | C96: 1 | D96: 9 ANS | E96: 2 | F96: 4 | G96: 60 MIN | I96: X | K96: 20 | M96: X | O96: STRATEGIE PLATEAU DYNAMIQUE GESTION DEPLACEMENT CONFRONTATION ARGENT | P96: COMMERCE
A97: BANG LE JEU DE Dé | B97: C4 ET V2-2 | C97: 5 | D97: 8 ANS | E97: 3 | F97: 8 | G97: 15 MIN | I97: X | K97: 15 | L97: X | O97: PG Dé STRATEGIE ROLE SECRET ASSYMETRIE CONFRONTATION EQUIPE ELIMINATION PARI BLUFF | P97: WESTERN
A98: BANG LE JEU DE Dé WALKING DEAD | B98: I5 | C98: 0 | D98: 13 ANS | E98: 3 | F98: 8 | G98: 15 MIN | H98: X | K98: 15 | L98: X | O98: PG Dé STRATEGIE ROLE SECRET ASSYMETRIE CONFRONTATION EQUIPE ELIMINATION PARI BLUFF | P98: BD
A99: BANQUISE | B99: G1 | C99: 1 | D99: 5 ANS | E99: 2 | F99: 6 | G99: 10 MIN | I99: X | K99: 20 | L99: X | O99: PG STRATEGIE PLACEMENT | P99: ANIMAUX
A100: BANZAI | B100: H2 | C100: 1 | D100: 7 ANS | E100: 3 | F100: 12 | G100: 20 MIN | I100: X | K100: 20 | L100: X | O100: PG CARTE PLI | P100: NINJA
A101: BAOBAB | B101: Q3 | C101: 1 | D101: 6 ANS | E101: 2 | F101: 4 | G101: 15 MIN | H101: X | K101: 20 | L101: X | O101: PG PLATEAU 3D STRATEGIE ADRESSE OBSERVATION DEXTERITE | P101: ANIMAUX
...

Sheet rechetche
B2: Nom du jeu : | C2: SUPERLIPOPEX
B4: lieu de stockage | C4: =VLOOKUP($C$2,inventaire!$A$1:P1930,2,FALSE) -> T3-2
B5: nombre de copie | C5: =VLOOKUP($C$2,inventaire!$A$1:P1930,3,FALSE) -> 0
B6: AGE | C6: =VLOOKUP($C$2,inventaire!$A$1:P1930,4,FALSE) -> 9 ANS
B7: nbre joueur min | C7: =VLOOKUP($C$2,inventaire!A5:P1930,5,FALSE) -> 3
B8: nbre joueur max | C8: =VLOOKUP($C$2,inventaire!$A$1:P1930,6,FALSE) -> 6
B9: durée partiemax | C9: =VLOOKUP($C$2,inventaire!$A$1:P1930,7,FALSE) -> 20 MIN
B10: bon état
B11: état moyen | C11: =VLOOKUP($C$2,inventaire!$A$1:P1930,8,FALSE)
B12: mauvais état | C12: =VLOOKUP($C$2,inventaire!$A$1:P1930,10,FALSE)

Sheet commande
B4: liste souhaité | C4: prix | F4: cde Anto | G4: 45359 | J4: Mathieu | K4: 45360
F5: ABRACADA QUOI ? | G5: G2 | H5: 25 | J5: ZOMBIES LA BLONDE LA BRUTE ET LE TRUAND | K5: J5 | L5: 100
B6: UNLOCK SHORT ADVENTURE LE VOL DE L ANGE | C6: 8 | F6: ARENA FOR THE GODS | G6: Y3 | H6: 30 | J6: GALAXY TRUCKER | K6: X5 | L6: 36
B7: UNLOCK SHORT ADVENTURELE REVEIL DE LA MOMIE | C7: 8 | F7: BANG LE JEU DE Dé WALKING DEAD | G7: I5 | H7: 20 | J7: EKETORP | K7: C3 | L7: 35
B8: UNLOCK SHORT ADVENTURE LES SECRETS DE LA PIEUVRE | C8: 8 | F8: FANTASY REALMS | G8: V2-2 | H8: 25 | J8: ELIXIR | K8: H1 | L8: 40
B9: UNLOCK SHORT ADVENTURE A LA POURSUITE DE CABRAKAN | C9: 8 | F9: VENDUS | H9: =SUM(H5:H8) -> 100 | J9: ELIXIR LA COMPIL EXTENSION | K9: H1 | L9: 50
B10: UNLOCK SHORT ADVENTURE LE DONJON DE DOO-ARANN | C10: 8 | J10: CASH AND GUN | K10: F1 | L10: 25
B11: UNLOCK ESCAPE ADVENTURE | C11: 25 | F11: CAMUEL up | G11: X4 | H11: 30 | J11: VENDUS | L11: =SUM(L5:L10) -> 286
B12: UNLOCK ESCAPE EPIC ADVENTURE | C12: 30 | F12: SPLENDOR : EXT LES CITES DE SPLENDOR | G12: U1 | H12: 30
B13: UNLOCK ESCAPE EXOTIC ADVENTURE | C13: 30 | F13: VENDUS | H13: =SUM(H11:H12) -> 60
B14: UNLOCK ESCAPE HEROIC ADVENTURE | C14: 30 | J14: STEFAN QUERU | K14: 45360
B15: UNLOCK ESCAPE MYSTERY ADVENTURE | C15: 30 | J15: SUPERLIPOPEX | K15: T3-2 | L15: 23
B16: UNLOCK ESCAPE MYTHIC ADVENTURE | C16: 30 | F16: Yuki Yan et copines | G16: 45359 | J16: IT S A WONDERFUL WORLD | K16: X11 | L16: 35
B17: UNLOCK ESCAPE SECRET ADVENTURE | C17: 30 | F17: DRAFTOSAURUS | G17: S2 | H17: 20 | J17: VENDU | L17: =SUM(L15:L16) -> 58
B18: UNLOCK ESCAPE STAR WARS | C18: 30 | F18: DECROCHER LA LUNE | G18: W4 | H18: 20
B19: UNLOCK ESCAPE TIMELESS ADVENTURE | C19: 30 | F19: VENDUS | H19: =SUM(H17:H18) -> 40 | J19: Marc dodinot | K19: 45366
B20: total | C20: 305 | J20: =inventaire!A124 -> BLOOD BOWL TEAM MANAGER LE JEU DE CARTE | K20: =inventaire!B124 -> I1 | L20: =inventaire!K124 -> 30
J21: =inventaire!A359 -> DOMINION | K21: =inventaire!B359 -> U8 | L21: =inventaire!K359 -> 30
F22: Estelle Marques | G22: 45367 | J22: VENDUS | L22: 60
F23: MAGIC MAZE | G23: Y3 | H23: 20
B24: COLLEGUE NICO | F24: PIT ed 2008 | G24: O7-1 | H24: 18 | J24: Matthieu Bonin | K24: 45366
B25: =inventaire!A479 -> GOSU ed 2010 | C25: =inventaire!B479 -> G3 | D25: =inventaire!K479 -> 30 | F25: LA BONNE PAYE edition parker 1996 | G25: J2 | H25: 20 | J25: =inventaire!A420 -> FAST FOUILLE | K25: =inventaire!B420 -> T3-3 | L25: =inventaire!K420 -> 15
F26: LOVE LETTER | G26: V1-1 | H26: 5 | J26: =inventaire!A408 -> EXCAPE | K26: =inventaire!B408 -> G1 | L26: =inventaire!K408 -> 20
F27: VENDUS | H27: =H23+H24+H25+H26 -> 63 | L27: =SUM(L25:L26) -> 35
J29: Romain Duga | K29: 45367
F30: clemence lambolez | G30: 45367 | J30: =inventaire!A106 -> BATTLESTAR GALACTICA LE EXT pegasus | K30: =inventaire!B106 -> N1 | L30: =inventaire!K106 -> 76
F31: =inventaire!A492 -> GUILLOTINE | G31: =inventaire!B492 -> C4 | H31: =inventaire!K492 -> 20 | J31: =inventaire!A692 -> LA VALLEE DES MAMOUTHS | K31: =inventaire!B692 -> C2 | L31: =inventaire!K692 -> 25
H32: =SUM(H31) -> 20 | J32: =inventaire!A1259 -> STARCRAFT EXTENSION BROOD WAR | K32: =inventaire!B1259 -> M5 | L32: =inventaire!K1259 -> 80
J33: =inventaire!A1210 -> SNOW TAILS | K33: =inventaire!B1210 -> G3 | L33: =inventaire!K1210 -> 30
F34: Jeu pour Hugo | J34: =inventaire!A691 -> LA VALLEE DES MAMOUTHS ext | K34: =inventaire!B691 -> C1 | L34: =inventaire!K691 -> 40
F35: RUSH HOUR | G35: K2 | H35: 25 | J35: VENDUS | L35: =SUM(L30:L34) -> 251
B37: denis le thorel | C37: 45366 | F37: VENDUS | H37: =SUM(H35:H36) -> 25
B38: =inventaire!A465 -> GANMBIT 7 | C38: =inventaire!B465 -> F3 | D38: =inventaire!K465 -> 15 | J38: carole | K38: 45366
B39: =inventaire!A385 -> DURCH DIE WURST | C39: =inventaire!B385 -> C1 | D39: =inventaire!K385 -> 15 | F39: Isabelle Rio | G39: 45367 | J39: =inventaire!A657 -> L AGE DE PIERRE EXTENSION | K39: =inventaire!B657 -> C1 | L39: =inventaire!K657 -> 30
D40: =SUM(D38:D39) -> 30 | F40: =inventaire!A1027 -> PIKOMINO | G40: =inventaire!B1027 -> V2-1 ET H1 | H40: =inventaire!K1027 -> 10 | J40: VENDUS | L40: =SUM(L39) -> 30
F41: =inventaire!A1281 -> SUSHI BAR | G41: =inventaire!B1281 -> T4-1 | H41: =inventaire!K1281 -> 20
B42: thomas roth | C42: 45366 | J42: Stephane boucley | K42: 45367
B43: =inventaire!A807 -> MARCO POLO | C43: =inventaire!B807 -> J2 | D43: =inventaire!K807 -> 25 | J43: =inventaire!A71 -> ASCENSION DES AMES DECHAINEES | K43: =inventaire!B71 -> G3 | L43: 25
B44: =inventaire!A864 -> MINIVILLES EXT GREEN VALLEY | C44: =inventaire!B864 -> T3-2 | D44: =inventaire!K864 -> 20.9 | J44: =inventaire!A72 -> ASCENSION DES HEROS IMMORTELS | K44: =inventaire!B72 -> G3 | L44: 25
F45: Philippe Marchand | G45: 45368 | J45: =inventaire!A73 -> ASCENSION LA RENAISSANCE DE VIGIL | K45: =inventaire!B73 -> G3 | L45: 20
D46: =SUM(D43:D45) -> 45.9 | F46: =inventaire!A151 -> BURGER QUIZ | G46: =inventaire!B151 -> Y4 | H46: =inventaire!K151 -> 20 | J46: =inventaire!A74 -> ASCENSION LA VENGANCE DES TENEBRES | K46: =inventaire!B74 -> G3 | L46: 20
F47: =inventaire!A306 -> DECRYPTO | G47: =inventaire!B306 -> D1 ET S4 | H47: =inventaire!K306 -> 20 | J47: =inventaire!A744 -> LES CHEVALIERS DE LA TABLE RONDE | K47: =inventaire!B744 -> Y1 | L47: =inventaire!K744 -> 30
B48: Raphaelle Heulin | C48: 45367 | F48: =inventaire!A403 -> ESQUISSE ? | G48: =inventaire!B403 -> R5 | H48: =inventaire!K403 -> 20 | J48: VENDUS | L48: =SUM(L43:L47) -> 120
B49: =inventaire!A89 -> AZUL | C49: =inventaire!B89 -> S5 | D49: =inventaire!K89 -> 35 | F49: =inventaire!A482 -> GRAND QUIZ STARWARS | G49: =inventaire!B482 -> K3 | H49: =inventaire!K482 -> 25
B50: 7 wonders architects | C50: I | D50: 35 | F50: =inventaire!A794 -> MAFIA DE CUBA | G50: =inventaire!B794 -> I5 | H50: =inventaire!K794 -> 30 | J50: Romain Duga | K50: 45367
B51: =inventaire!A1228 -> SPLENDOR 2014 | C51: =inventaire!B1228 -> U1 | D51: =inventaire!K1228 -> 28 | F51: =inventaire!A891 -> MUNCHKIN | G51: =inventaire!B891 -> N4-2 ET G1 | H51: =inventaire!K891 -> 28 | J51: =inventaire!A748 -> LES DEMEURES DE L EPOUVANTE | K51: =inventaire!B748 -> J4 | L51: =inventaire!K748 -> 30
B52: =inventaire!A1230 -> SPLENDOR MARVEL | C52: =inventaire!B1230 -> U1 | D52: =inventaire!K1230 -> 28 | F52: =inventaire!A1193 -> SKULL | G52: =inventaire!B1193 -> V4-1 | H52: =inventaire!K1193 -> 10 | J52: VENDUS | L52: =SUM(L51) -> 30
B53: =inventaire!A1231 -> SPLENDOR TAPIS | C53: =inventaire!B1231 -> K5 | D53: =inventaire!K1231 -> 30 | F53: terraforming mars | G53: ?
D54: =SUM(D49:D53) -> 156 | H54: =SUM(H46:H53) -> 153 | J54: Marine Crl | K54: 45368
J55: =inventaire!A759 -> LES TAVERNES DE LA VALEE PROFONDE | K55: =inventaire!B759 -> I3 | L55: =inventaire!K759 -> 25
J56: =inventaire!A221 -> CLANK! LES AVENTURIERS DU DECK BUILDING | K56: =inventaire!B221 -> Q2 | L56: =inventaire!K221 -> 30
B57: Thomas Deparday | C57: 45366 | J57: VENDUS | L57: =SUM(L56+L55) -> 55
B58: =inventaire!A1065 -> QIN | C58: =inventaire!B1065 -> X5 | D58: =inventaire!K1065 -> 25 | F58: Stephanie Devise | G58: 45368
D59: =SUM(D58) -> 25 | F59: =inventaire!A1028 -> PINA PIRATA | G59: =inventaire!B1028 -> L2 | H59: =inventaire!K1028 -> 20 | J59: Marc Alexendre Brizard | K59: 45367
F60: =inventaire!A160 -> CAMELEON | G60: =inventaire!B160 -> H1 | H60: =inventaire!K160 -> 20 | J60: =inventaire!A1159 -> SERVICE COMPRIS | K60: =inventaire!B1159 -> H1 ET V3-2 | L60: =inventaire!K1159 -> 20
B61: Emeric Kien | C61: 45368 | F61: =inventaire!A196 -> CERBERE | G61: =inventaire!B196 -> R8 | H61: =inventaire!K196 -> 30 | J61: =inventaire!A393 -> EN GARDE | K61: =inventaire!B393 -> R2 | L61: =inventaire!K393 -> 15
B62: =inventaire!A41 -> AGENT TROUBLE | C62: =inventaire!B41 -> Q1-1 | D62: =inventaire!K41 -> 15 | F62: =inventaire!A366 -> DRAFTOSAURUS | G62: =inventaire!B366 -> I4 | H62: =inventaire!K366 -> 20 | J62: complice | L62: 25
B63: =inventaire!A250 -> COMPATIBILITY | C63: =inventaire!B250 -> S3 ET H3 | D63: =inventaire!K250 -> 20 | F63: =inventaire!A212 -> CHROMINO | G63: =inventaire!B212 -> W1 | H63: =inventaire!K212 -> 20 | J63: =inventaire!A1201 -> SMALLWORLD | K63: =inventaire!B1201 -> L5 | L63: =inventaire!K1201 -> 45
F64: =inventaire!A419 -> FARMINI | G64: =inventaire!B419 -> N4-1 | H64: =inventaire!K419 -> 20 | J64: =inventaire!A1212 -> SOIREE ENQUETE DOSSIER 1 (MURDER) | K64: =inventaire!B1212 -> D1 | L64: =inventaire!K1212 -> 20
D65: =SUM(D62:D64) -> 35 | F65: =inventaire!A622 -> KING OF TOKYO | G65: =inventaire!B622 -> R3 ET L5 | H65: =inventaire!K622 -> 30
F66: =inventaire!A1384 -> TREK 12 | G66: =inventaire!B1384 -> T4-3 | H66: =inventaire!K1384 -> 15 | J66: VENDUS | L66: =SUM(L60:L65) -> 125
B67: Brigitte Delpeyroux | C67: 45368 | H67: =SUM(H59:H66) -> 175
B68: =inventaire!A1412 -> UNDO LE PRISONNIER DU PASSE | C68: =inventaire!B1412 -> V3-2 | D68: =inventaire!K1412 -> 25 | J68: Prevot Floran | K68: 45368
B69: =inventaire!A1416 -> UNLOCK ESCAPE EXOTIC ADVENTURE | C69: =inventaire!B1416 -> R6 | D69: =inventaire!K1416 -> 30 | J69: =inventaire!A491 -> GUEULES NOIRES | K69: =inventaire!B491 -> C5 | L69: =inventaire!K491 -> 25
B70: =inventaire!A1418 -> UNLOCK ESCAPE MYSTERY ADVENTURE | C70: =inventaire!B1418 -> R6 | D70: =inventaire!K1418 -> 30 | J70: =inventaire!A851 -> MICROMUTANTS ARACHNOIDES VS RUSSOPTERES | K70: =inventaire!B851 -> Q4 | L70: =inventaire!K851 -> 25
D71: =SUM(D68:D70) -> 85 | J71: =inventaire!A852 -> MICROMUTANTS COSMOPLANTE VS SASHIMITES | K71: =inventaire!B852 -> H2 | L71: =inventaire!K852 -> 25
J72: =inventaire!A853 -> MICROMUTANTS USATROPODE VS EXOgORG | K72: =inventaire!B853 -> Q4 | L72: =inventaire!K853 -> 25
J73: VENDUS | L73: =SUM(L69:L72) -> 100

Sheet jeux achetés manquant
A1: jeux manquants | B1: prix | C1: qtté
A2: keskife ? | B2: 12 | C2: 1
A3: QWINTO | B3: 15 | C3: 1
A4: BABA YAGA | B4: 25 | C4: 1

Sheet Feuille 4
A1: 1960 kennedy vs nixon | B1: neuf
A2: 51eme etat | F2: romain | G2: =A113 -> space hulk | H2: 200
A3: 8 bit box | G3: =A137 -> warhammer chaos dans le vieux monde | H3: 60
A4: alcatraz | G4: la compagnie de merlin ext CdTR | H4: 50
A5: alea iacta est | B5: neuf | G5: kennedy & nixo, | H5: 60
A6: andor | H6: =SUM(H2:H5) -> 370
A7: arboria
A8: armada 3
A9: art moderne | F9: mathieyx | G9: diplomacie | H9: 40
A10: asteroyds | B10: neuf | G10: mare nostrum | H10: 40
A11: astoria
A12: attrape terriens
A13: batik | F13: vincent | G13: taggle | H13: 50
A14: burger quizz | G14: warhammer | H14: 50
A15: cardline animaux
A16: carson city
A17: carte cassone
A18: cash and gun seconde ed | B18: neuf
A19: châteeau adventure
A20: claustrophobia
A21: comment j'ai adopté un gnou
A22: conan le jeu de plateau | B22: neuf
A23: cyclades
A24: de cape et d'épée
A25: diplomacy parker
A26: dominion | B26: neuf
A27: dune
A28: dungeaon lord
A29: dungeaon quest | B29: neuf
A30: dungeon pets
A31: dungeon twister prison | B31: neuf
A32: dungeon twister
A33: emile empile
A34: endeavor | B34: neuf
A35: evo
A36: fantomes contre fantomes
A37: finca
A38: first empires
A39: five tribes les djinns de nagala
A40: flamme rouge
A41: formula dé
A42: fort boyard
A43: frontière la liberté ou la mort
A44: ghost stories black secret
A45: ghost stories ext white moon | B45: neuf
A46: hero scape marvel
A47: hero scrape
A48: heroica
A49: himmel a,,,und zwirn ! | B49: neuf
A50: hit Z road | B50: neuf
A51: hotel deluxe | B51: neuf
A52: hurry up !
A53: hyperborea
A54: hystericoach
A55: invasion
A56: jack et le haricot magique
A57: jaipur
A58: killer bunnies
A59: king of ny
A60: king of tokyo | C60: 2
A61: kingdoms
A62: kroki
A63: kto pozmywa ?
A64: la citée de svoleurs
A65: la folie des grandeurs
A66: la guerre des moutons
A67: la mort aux trousses
A68: la nuit du grand poulpe
A69: la quête des terres du milieu | B69: neuf
A70: la ruée vers l'or (main basse sur un eldorado)
A71: le casse tête numérique d'aristote
A72: le fléau des dieux | B72: neuf
A73: le gang des tractions avant
A74: le joueur de flûte
A75: le roi est mort
A76: le secret de montécristo | B76: neuf
A77: le seigneur des anneaux
A78: le seigneur des anneaux ext sauron
A79: le trône de fer jeux de cartes
A80: les 3 mousquetaires | B80: neuf
A81: les géants de l'ile de paque | B81: neuf
A82: les pilliers de la terre
A83: lift it
A84: loony quest
A85: lulu vroumette
A86: mare nostrum
A87: marvel heroes
A88: Mil 1049
A89: miss poutine | B89: neuf
A90: mission planéte rouge
A91: mongolfiere
A92: Mr Jack "new york jan 4 6th AM" | B92: neuf
A93: munchkin cthulul
A94: naruto shippuden le jeu de société
A95: ninjato
A96: nom de jeu | B96: etat
A97: noodles
A98: nostra city
A99: novembre rouge
A100: octave dugland
...

Sheet Feuille 5
A6: DREAM FACTORY | B6: 35
A7: COMPACT BOWLING | B7: 20
A8: COMPACT CURLING | B8: 20
A9: Total | B9: =SUM(B4:B8) -> 75

Sheet Feuille 7
A1: total vente jeu | B1: =commande!H9+commande!L11++commande!H13+commande!H19+commande!H27+commande!H19+commande!L35+commande!L40+commande!L48+commande!L52-15 -> 1005
G4: nico | H4: patrick
A5: un tier | B5: =B1/3 -> 335 | D5: =B5+B6 -> 418.75 | F5: le 16/3/24 | G5: 419 | H5: 586
A6: un quart | B6: =B5/4 -> 83.75 | D6: =B5+(3*B6) -> 586.25 | F6: le 17/3/24 | G6: 150 | H6: 126
B7: , | D7: =SUM(D5:D6) -> 1005
A12: 50 | B12: 5 | C12: =A12*B12 -> 250
A13: 20 | B13: 1 | C13: =A13*B13 -> 20
A14: 10 | B14: 1 | C14: =A14*B14 -> 10
A15: 5 | B15: 0 | C15: =A15*B15 -> 0
A16: 2 | B16: 0 | C16: =A16*B16 -> 0
A17: 1 | B17: 0 | C17: =A17*B17 -> 0
C18: =SUM(C12:C17) -> 280
C19: =C18-B1 -> -725
A22: 0
A23: =A22/3 -> 0 | C23: =A23+A24 -> 0
A24: =A23/4 -> 0 | C24: =A23+(3*A24) -> 0
A25: , | C25: =SUM(C23:C24) -> 0
